BEGIN:VCALENDAR
VERSION:2.0
PRODID:-//Davie Jones Elementary - ECPv6.15.14//NONSGML v1.0//EN
CALSCALE:GREGORIAN
METHOD:PUBLISH
X-WR-CALNAME:Davie Jones Elementary
X-ORIGINAL-URL:https://elementary.sd42.ca/daviejones
X-WR-CALDESC:Events for Davie Jones Elementary
REFRESH-INTERVAL;VALUE=DURATION:PT1H
X-Robots-Tag:noindex
X-PUBLISHED-TTL:PT1H
BEGIN:VTIMEZONE
TZID:America/Vancouver
BEGIN:DAYLIGHT
TZOFFSETFROM:-0800
TZOFFSETTO:-0700
TZNAME:PDT
DTSTART:20170312T100000
END:DAYLIGHT
BEGIN:STANDARD
TZOFFSETFROM:-0700
TZOFFSETTO:-0800
TZNAME:PST
DTSTART:20171105T090000
END:STANDARD
BEGIN:DAYLIGHT
TZOFFSETFROM:-0800
TZOFFSETTO:-0700
TZNAME:PDT
DTSTART:20180311T100000
END:DAYLIGHT
BEGIN:STANDARD
TZOFFSETFROM:-0700
TZOFFSETTO:-0800
TZNAME:PST
DTSTART:20181104T090000
END:STANDARD
BEGIN:DAYLIGHT
TZOFFSETFROM:-0800
TZOFFSETTO:-0700
TZNAME:PDT
DTSTART:20190310T100000
END:DAYLIGHT
BEGIN:STANDARD
TZOFFSETFROM:-0700
TZOFFSETTO:-0800
TZNAME:PST
DTSTART:20191103T090000
END:STANDARD
END:VTIMEZONE
BEGIN:VEVENT
DTSTART;TZID=America/Vancouver:20180913T083000
DTEND;TZID=America/Vancouver:20180913T133000
DTSTAMP:20260421T154947
CREATED:20180830T205946Z
LAST-MODIFIED:20180830T205946Z
UID:1215-1536827400-1536845400@elementary.sd42.ca
SUMMARY:Kindergarten classes attend 8:30am - 1:30pm
DESCRIPTION:
URL:https://elementary.sd42.ca/daviejones/event/kindergarten-classes-attend-830am-130pm/
END:VEVENT
BEGIN:VEVENT
DTSTART;TZID=America/Vancouver:20180913T163000
DTEND;TZID=America/Vancouver:20180913T180000
DTSTAMP:20260421T154947
CREATED:20180830T211154Z
LAST-MODIFIED:20180830T213940Z
UID:1226-1536856200-1536861600@elementary.sd42.ca
SUMMARY:Scholastic Book Fair 4:30 - 6pm
DESCRIPTION:
URL:https://elementary.sd42.ca/daviejones/event/scholastic-book-fair-430-6pm/
END:VEVENT
BEGIN:VEVENT
DTSTART;TZID=America/Vancouver:20180913T170000
DTEND;TZID=America/Vancouver:20180913T174500
DTSTAMP:20260421T154947
CREATED:20180830T214955Z
LAST-MODIFIED:20180830T214955Z
UID:1253-1536858000-1536860700@elementary.sd42.ca
SUMMARY:Welcome Back - Classroom Visit 5 - 5:45pm
DESCRIPTION:
URL:https://elementary.sd42.ca/daviejones/event/welcome-back-classroom-visit-5-545pm/
END:VEVENT
BEGIN:VEVENT
DTSTART;TZID=America/Vancouver:20180913T170000
DTEND;TZID=America/Vancouver:20180913T190000
DTSTAMP:20260421T154947
CREATED:20180830T211644Z
LAST-MODIFIED:20190905T185834Z
UID:1228-1536858000-1536865200@elementary.sd42.ca
SUMMARY:Welcome Back BBQ 5:45 - 7pm
DESCRIPTION:Classroom Visit 5:00 – 7:00 pm
URL:https://elementary.sd42.ca/daviejones/event/welcome-back-bbq-545-7pm/
END:VEVENT
END:VCALENDAR