BEGIN:VCALENDAR
VERSION:2.0
PRODID:-//Davie Jones Elementary - ECPv6.15.14//NONSGML v1.0//EN
CALSCALE:GREGORIAN
METHOD:PUBLISH
X-WR-CALNAME:Davie Jones Elementary
X-ORIGINAL-URL:https://elementary.sd42.ca/daviejones
X-WR-CALDESC:Events for Davie Jones Elementary
REFRESH-INTERVAL;VALUE=DURATION:PT1H
X-Robots-Tag:noindex
X-PUBLISHED-TTL:PT1H
BEGIN:VTIMEZONE
TZID:America/Toronto
BEGIN:DAYLIGHT
TZOFFSETFROM:-0500
TZOFFSETTO:-0400
TZNAME:EDT
DTSTART:20170312T070000
END:DAYLIGHT
BEGIN:STANDARD
TZOFFSETFROM:-0400
TZOFFSETTO:-0500
TZNAME:EST
DTSTART:20171105T060000
END:STANDARD
BEGIN:DAYLIGHT
TZOFFSETFROM:-0500
TZOFFSETTO:-0400
TZNAME:EDT
DTSTART:20180311T070000
END:DAYLIGHT
BEGIN:STANDARD
TZOFFSETFROM:-0400
TZOFFSETTO:-0500
TZNAME:EST
DTSTART:20181104T060000
END:STANDARD
BEGIN:DAYLIGHT
TZOFFSETFROM:-0500
TZOFFSETTO:-0400
TZNAME:EDT
DTSTART:20190310T070000
END:DAYLIGHT
BEGIN:STANDARD
TZOFFSETFROM:-0400
TZOFFSETTO:-0500
TZNAME:EST
DTSTART:20191103T060000
END:STANDARD
END:VTIMEZONE
BEGIN:VEVENT
DTSTART;TZID=America/Toronto:20180405T080000
DTEND;TZID=America/Toronto:20180405T150000
DTSTAMP:20260421T151548
CREATED:20180216T222340Z
LAST-MODIFIED:20180216T222340Z
UID:788-1522915200-1522940400@elementary.sd42.ca
SUMMARY:Cross Boundary Transfers\, Phase 2
DESCRIPTION:Until June 20/18.  If you wish to transfer your child to another school in the district for September 2018\, please complete a transfer form with the school your child is presently enrolled in.
URL:https://elementary.sd42.ca/daviejones/event/cross-boundary-transfers-phase-2/
END:VEVENT
BEGIN:VEVENT
DTSTART;TZID=America/Toronto:20180405T084500
DTEND;TZID=America/Toronto:20180405T140000
DTSTAMP:20260421T151548
CREATED:20180217T013237Z
LAST-MODIFIED:20180217T013237Z
UID:820-1522917900-1522936800@elementary.sd42.ca
SUMMARY:Kindergarten Vision & Hearing Screenings
DESCRIPTION:
URL:https://elementary.sd42.ca/daviejones/event/kindergarten-vision-hearing-screenings/
END:VEVENT
BEGIN:VEVENT
DTSTART;TZID=America/Toronto:20180405T170000
DTEND;TZID=America/Toronto:20180405T170000
DTSTAMP:20260421T151548
CREATED:20180309T220228Z
LAST-MODIFIED:20180309T221022Z
UID:874-1522947600-1522947600@elementary.sd42.ca
SUMMARY:Bingo & Pizza
DESCRIPTION:BINGO and PIZZA
URL:https://elementary.sd42.ca/daviejones/event/bingo-pizza/
END:VEVENT
END:VCALENDAR