BEGIN:VCALENDAR
VERSION:2.0
PRODID:-//Davie Jones Elementary - ECPv6.15.14//NONSGML v1.0//EN
CALSCALE:GREGORIAN
METHOD:PUBLISH
X-WR-CALNAME:Davie Jones Elementary
X-ORIGINAL-URL:https://elementary.sd42.ca/daviejones
X-WR-CALDESC:Events for Davie Jones Elementary
REFRESH-INTERVAL;VALUE=DURATION:PT1H
X-Robots-Tag:noindex
X-PUBLISHED-TTL:PT1H
BEGIN:VTIMEZONE
TZID:America/Toronto
BEGIN:DAYLIGHT
TZOFFSETFROM:-0500
TZOFFSETTO:-0400
TZNAME:EDT
DTSTART:20160313T070000
END:DAYLIGHT
BEGIN:STANDARD
TZOFFSETFROM:-0400
TZOFFSETTO:-0500
TZNAME:EST
DTSTART:20161106T060000
END:STANDARD
BEGIN:DAYLIGHT
TZOFFSETFROM:-0500
TZOFFSETTO:-0400
TZNAME:EDT
DTSTART:20170312T070000
END:DAYLIGHT
BEGIN:STANDARD
TZOFFSETFROM:-0400
TZOFFSETTO:-0500
TZNAME:EST
DTSTART:20171105T060000
END:STANDARD
BEGIN:DAYLIGHT
TZOFFSETFROM:-0500
TZOFFSETTO:-0400
TZNAME:EDT
DTSTART:20180311T070000
END:DAYLIGHT
BEGIN:STANDARD
TZOFFSETFROM:-0400
TZOFFSETTO:-0500
TZNAME:EST
DTSTART:20181104T060000
END:STANDARD
END:VTIMEZONE
BEGIN:VEVENT
DTSTART;TZID=America/Toronto:20171016T090000
DTEND;TZID=America/Toronto:20171016T120000
DTSTAMP:20260423T031621
CREATED:20171005T203904Z
LAST-MODIFIED:20171005T203904Z
UID:326-1508144400-1508155200@elementary.sd42.ca
SUMMARY:Aldor Acres\, Div. 15 & 16
DESCRIPTION:
URL:https://elementary.sd42.ca/daviejones/event/aldor-acres-div-15-16/
END:VEVENT
BEGIN:VEVENT
DTSTART;TZID=America/Toronto:20171016T130000
DTEND;TZID=America/Toronto:20171016T140000
DTSTAMP:20260423T031621
CREATED:20170929T211841Z
LAST-MODIFIED:20170929T211911Z
UID:299-1508158800-1508162400@elementary.sd42.ca
SUMMARY:Skating\, Div. 4 & 10
DESCRIPTION:
URL:https://elementary.sd42.ca/daviejones/event/skating-div-4-10-100-200/
END:VEVENT
END:VCALENDAR