BEGIN:VCALENDAR
VERSION:2.0
PRODID:-//Davie Jones Elementary - ECPv6.15.14//NONSGML v1.0//EN
CALSCALE:GREGORIAN
METHOD:PUBLISH
X-ORIGINAL-URL:https://elementary.sd42.ca/daviejones
X-WR-CALDESC:Events for Davie Jones Elementary
REFRESH-INTERVAL;VALUE=DURATION:PT1H
X-Robots-Tag:noindex
X-PUBLISHED-TTL:PT1H
BEGIN:VTIMEZONE
TZID:America/Toronto
BEGIN:DAYLIGHT
TZOFFSETFROM:-0500
TZOFFSETTO:-0400
TZNAME:EDT
DTSTART:20160313T070000
END:DAYLIGHT
BEGIN:STANDARD
TZOFFSETFROM:-0400
TZOFFSETTO:-0500
TZNAME:EST
DTSTART:20161106T060000
END:STANDARD
BEGIN:DAYLIGHT
TZOFFSETFROM:-0500
TZOFFSETTO:-0400
TZNAME:EDT
DTSTART:20170312T070000
END:DAYLIGHT
BEGIN:STANDARD
TZOFFSETFROM:-0400
TZOFFSETTO:-0500
TZNAME:EST
DTSTART:20171105T060000
END:STANDARD
BEGIN:DAYLIGHT
TZOFFSETFROM:-0500
TZOFFSETTO:-0400
TZNAME:EDT
DTSTART:20180311T070000
END:DAYLIGHT
BEGIN:STANDARD
TZOFFSETFROM:-0400
TZOFFSETTO:-0500
TZNAME:EST
DTSTART:20181104T060000
END:STANDARD
END:VTIMEZONE
BEGIN:VEVENT
DTSTART;TZID=America/Toronto:20170914T170000
DTEND;TZID=America/Toronto:20170914T190000
DTSTAMP:20260419T190713
CREATED:20170902T001855Z
LAST-MODIFIED:20170902T210520Z
UID:208-1505408400-1505415600@elementary.sd42.ca
SUMMARY:Welcome Back BBQ
DESCRIPTION:5:00-5:45 pm Classroom Visit \n5:45-7:00 pm School BBQ \n7:00 pm New Parent Orientation
URL:https://elementary.sd42.ca/daviejones/event/welcome-back-bbq/
CATEGORIES:District Calendar
END:VEVENT
BEGIN:VEVENT
DTSTART;TZID=America/Toronto:20170914T190000
DTEND;TZID=America/Toronto:20170914T200000
DTSTAMP:20260419T190713
CREATED:20170902T080708Z
LAST-MODIFIED:20170902T080802Z
UID:225-1505415600-1505419200@elementary.sd42.ca
SUMMARY:New Parent Meeting
DESCRIPTION:
URL:https://elementary.sd42.ca/daviejones/event/new-parent-meeting/
END:VEVENT
END:VCALENDAR