BEGIN:VCALENDAR
VERSION:2.0
PRODID:-//c̓əsqənelə Elementary - ECPv6.15.14//NONSGML v1.0//EN
CALSCALE:GREGORIAN
METHOD:PUBLISH
X-ORIGINAL-URL:https://elementary.sd42.ca/cusqunela
X-WR-CALDESC:Events for c̓əsqənelə Elementary
REFRESH-INTERVAL;VALUE=DURATION:PT1H
X-Robots-Tag:noindex
X-PUBLISHED-TTL:PT1H
BEGIN:VTIMEZONE
TZID:America/Vancouver
BEGIN:DAYLIGHT
TZOFFSETFROM:-0800
TZOFFSETTO:-0700
TZNAME:PDT
DTSTART:20230312T100000
END:DAYLIGHT
BEGIN:STANDARD
TZOFFSETFROM:-0700
TZOFFSETTO:-0800
TZNAME:PST
DTSTART:20231105T090000
END:STANDARD
BEGIN:DAYLIGHT
TZOFFSETFROM:-0800
TZOFFSETTO:-0700
TZNAME:PDT
DTSTART:20240310T100000
END:DAYLIGHT
BEGIN:STANDARD
TZOFFSETFROM:-0700
TZOFFSETTO:-0800
TZNAME:PST
DTSTART:20241103T090000
END:STANDARD
BEGIN:DAYLIGHT
TZOFFSETFROM:-0800
TZOFFSETTO:-0700
TZNAME:PDT
DTSTART:20250309T100000
END:DAYLIGHT
BEGIN:STANDARD
TZOFFSETFROM:-0700
TZOFFSETTO:-0800
TZNAME:PST
DTSTART:20251102T090000
END:STANDARD
BEGIN:DAYLIGHT
TZOFFSETFROM:-0800
TZOFFSETTO:-0700
TZNAME:PDT
DTSTART:20260308T100000
END:DAYLIGHT
BEGIN:STANDARD
TZOFFSETFROM:-0700
TZOFFSETTO:-0800
TZNAME:PST
DTSTART:20261101T090000
END:STANDARD
END:VTIMEZONE
BEGIN:VEVENT
DTSTART;TZID=America/Vancouver:20250109T120000
DTEND;TZID=America/Vancouver:20250109T123000
DTSTAMP:20260425T080330
CREATED:20250109T185627Z
LAST-MODIFIED:20250109T185627Z
UID:3708-1736424000-1736425800@elementary.sd42.ca
SUMMARY:Reading Link Challenge - Grade 4 & 5
DESCRIPTION:The Reading Link Challenge is underway!  Meetings are held Thursdays at 12:00 in the Hive\, bring your lunch with you!
URL:https://elementary.sd42.ca/cusqunela/event/reading-link-challenge-grade-4-5/
CATEGORIES:School Event
ATTACH;FMTTYPE=image/jpeg:https://wordpress1.blob.core.windows.net/cusqunela/2025/01/Reading-Link.jpg
END:VEVENT
BEGIN:VEVENT
DTSTART;VALUE=DATE:20241213
DTEND;VALUE=DATE:20241214
DTSTAMP:20260425T080330
CREATED:20240920T201030Z
LAST-MODIFIED:20240920T201030Z
UID:3382-1734048000-1734134399@elementary.sd42.ca
SUMMARY:Reporting Conferences
DESCRIPTION:Classes are not in session
URL:https://elementary.sd42.ca/cusqunela/event/reporting-conferences/
CATEGORIES:School Event
END:VEVENT
BEGIN:VEVENT
DTSTART;TZID=America/Vancouver:20241212T000000
DTEND;TZID=America/Vancouver:20241212T000000
DTSTAMP:20260425T080330
CREATED:20240920T195905Z
LAST-MODIFIED:20240920T200924Z
UID:2153-1733961600-1733961600@elementary.sd42.ca
SUMMARY:Early Dismissal Reporting Conferences
DESCRIPTION:Students are dismissed at 11:30
URL:https://elementary.sd42.ca/cusqunela/event/early-dismissal-reporting-conferences-2/
CATEGORIES:School Event
END:VEVENT
BEGIN:VEVENT
DTSTART;VALUE=DATE:20241205
DTEND;VALUE=DATE:20241206
DTSTAMP:20260425T080330
CREATED:20240920T195724Z
LAST-MODIFIED:20241204T220640Z
UID:3376-1733356800-1733443199@elementary.sd42.ca
SUMMARY:Entrepreneur Fair
DESCRIPTION:Divisions 1-5 have created products to sell for the Young Entrepreneur Fair on December 5th. Come check out what they have made\, and support student-run businesses. Partial proceeds go to charity. Visitors are welcome from 9:00-10:00\, 10:40-12:00\, and 12:45-1:10.
URL:https://elementary.sd42.ca/cusqunela/event/entrepreneur-fair/
CATEGORIES:School Event
END:VEVENT
BEGIN:VEVENT
DTSTART;VALUE=DATE:20241128
DTEND;VALUE=DATE:20241129
DTSTAMP:20260425T080330
CREATED:20241125T215457Z
LAST-MODIFIED:20241125T215457Z
UID:3674-1732752000-1732838399@elementary.sd42.ca
SUMMARY:Toque orders due
DESCRIPTION:
URL:https://elementary.sd42.ca/cusqunela/event/toque-orders-due/
CATEGORIES:School Event
END:VEVENT
BEGIN:VEVENT
DTSTART;VALUE=DATE:20241121
DTEND;VALUE=DATE:20241122
DTSTAMP:20260425T080330
CREATED:20240920T195630Z
LAST-MODIFIED:20240920T200859Z
UID:3374-1732147200-1732233599@elementary.sd42.ca
SUMMARY:Grade 6 Vaccinations
DESCRIPTION:
URL:https://elementary.sd42.ca/cusqunela/event/grade-6-vaccinations/
CATEGORIES:School Event
END:VEVENT
BEGIN:VEVENT
DTSTART;VALUE=DATE:20241106
DTEND;VALUE=DATE:20241107
DTSTAMP:20260425T080330
CREATED:20240920T195256Z
LAST-MODIFIED:20241030T190921Z
UID:3368-1730851200-1730937599@elementary.sd42.ca
SUMMARY:Photo Re-Take Day
DESCRIPTION:
URL:https://elementary.sd42.ca/cusqunela/event/photo-re-take-day/
CATEGORIES:School Event
ATTACH;FMTTYPE=image/jpeg:https://wordpress1.blob.core.windows.net/cusqunela/2024/09/Photo-retake-Nov-6.jpg
END:VEVENT
BEGIN:VEVENT
DTSTART;VALUE=DATE:20241016
DTEND;VALUE=DATE:20241017
DTSTAMP:20260425T080330
CREATED:20240920T194959Z
LAST-MODIFIED:20241015T223715Z
UID:3366-1729036800-1729123199@elementary.sd42.ca
SUMMARY:Individual Photo Day
DESCRIPTION:Get your smile ready!
URL:https://elementary.sd42.ca/cusqunela/event/individual-photo-day/
CATEGORIES:School Event
ATTACH;FMTTYPE=image/jpeg:https://wordpress1.blob.core.windows.net/cusqunela/2018/06/Photo-Day-Oct-16.jpg
END:VEVENT
BEGIN:VEVENT
DTSTART;TZID=America/Vancouver:20241011T124000
DTEND;TZID=America/Vancouver:20241011T142000
DTSTAMP:20260425T080330
CREATED:20240920T194927Z
LAST-MODIFIED:20240920T200717Z
UID:3364-1728650400-1728656400@elementary.sd42.ca
SUMMARY:Terry Fox Run
DESCRIPTION:
URL:https://elementary.sd42.ca/cusqunela/event/terry-fox-run/
CATEGORIES:School Event
END:VEVENT
BEGIN:VEVENT
DTSTART;TZID=America/Vancouver:20241002T163000
DTEND;TZID=America/Vancouver:20241002T173000
DTSTAMP:20260425T080330
CREATED:20240920T194246Z
LAST-MODIFIED:20240924T194939Z
UID:3358-1727886600-1727890200@elementary.sd42.ca
SUMMARY:Open House
DESCRIPTION:
URL:https://elementary.sd42.ca/cusqunela/event/open-house/
CATEGORIES:School Event
ATTACH;FMTTYPE=image/png:https://wordpress1.blob.core.windows.net/cusqunela/2024/09/2024-Open-House.png
END:VEVENT
BEGIN:VEVENT
DTSTART;VALUE=DATE:20240927
DTEND;VALUE=DATE:20240928
DTSTAMP:20260425T080330
CREATED:20240920T192724Z
LAST-MODIFIED:20240920T200602Z
UID:3352-1727395200-1727481599@elementary.sd42.ca
SUMMARY:Orange Shirt Day
DESCRIPTION:Please wear orange to support Truth and Reconciliation Day!!
URL:https://elementary.sd42.ca/cusqunela/event/orange-shirt-day/
CATEGORIES:School Event
END:VEVENT
BEGIN:VEVENT
DTSTART;TZID=America/Vancouver:20240920T094500
DTEND;TZID=America/Vancouver:20240920T103000
DTSTAMP:20260425T080330
CREATED:20240920T222313Z
LAST-MODIFIED:20240920T222313Z
UID:3500-1726825500-1726828200@elementary.sd42.ca
SUMMARY:Great Shake Out
DESCRIPTION:
URL:https://elementary.sd42.ca/cusqunela/event/great-shake-out/
CATEGORIES:School Event
END:VEVENT
END:VCALENDAR