BEGIN:VCALENDAR
VERSION:2.0
PRODID:-//c̓əsqənelə Elementary - ECPv6.15.14//NONSGML v1.0//EN
CALSCALE:GREGORIAN
METHOD:PUBLISH
X-WR-CALNAME:c̓əsqənelə Elementary
X-ORIGINAL-URL:https://elementary.sd42.ca/cusqunela
X-WR-CALDESC:Events for c̓əsqənelə Elementary
REFRESH-INTERVAL;VALUE=DURATION:PT1H
X-Robots-Tag:noindex
X-PUBLISHED-TTL:PT1H
BEGIN:VTIMEZONE
TZID:America/Vancouver
BEGIN:DAYLIGHT
TZOFFSETFROM:-0800
TZOFFSETTO:-0700
TZNAME:PDT
DTSTART:20240310T100000
END:DAYLIGHT
BEGIN:STANDARD
TZOFFSETFROM:-0700
TZOFFSETTO:-0800
TZNAME:PST
DTSTART:20241103T090000
END:STANDARD
BEGIN:DAYLIGHT
TZOFFSETFROM:-0800
TZOFFSETTO:-0700
TZNAME:PDT
DTSTART:20250309T100000
END:DAYLIGHT
BEGIN:STANDARD
TZOFFSETFROM:-0700
TZOFFSETTO:-0800
TZNAME:PST
DTSTART:20251102T090000
END:STANDARD
BEGIN:DAYLIGHT
TZOFFSETFROM:-0800
TZOFFSETTO:-0700
TZNAME:PDT
DTSTART:20260308T100000
END:DAYLIGHT
BEGIN:STANDARD
TZOFFSETFROM:-0700
TZOFFSETTO:-0800
TZNAME:PST
DTSTART:20261101T090000
END:STANDARD
BEGIN:DAYLIGHT
TZOFFSETFROM:-0800
TZOFFSETTO:-0700
TZNAME:PDT
DTSTART:20270314T100000
END:DAYLIGHT
BEGIN:STANDARD
TZOFFSETFROM:-0700
TZOFFSETTO:-0800
TZNAME:PST
DTSTART:20271107T090000
END:STANDARD
END:VTIMEZONE
BEGIN:VEVENT
DTSTART;VALUE=DATE:20260413
DTEND;VALUE=DATE:20260418
DTSTAMP:20260422T185401
CREATED:20260410T231758Z
LAST-MODIFIED:20260410T231758Z
UID:4069-1776038400-1776470399@elementary.sd42.ca
SUMMARY:Terry Fox Coin Drive
DESCRIPTION:
URL:https://elementary.sd42.ca/cusqunela/event/terry-fox-coin-drive/
CATEGORIES:School Event
ATTACH;FMTTYPE=image/jpeg:https://wordpress1.blob.core.windows.net/cusqunela/2026/04/Coin-drive.jpg
END:VEVENT
BEGIN:VEVENT
DTSTART;VALUE=DATE:20260306
DTEND;VALUE=DATE:20260307
DTSTAMP:20260422T185401
CREATED:20260205T231836Z
LAST-MODIFIED:20260205T231844Z
UID:4043-1772755200-1772841599@elementary.sd42.ca
SUMMARY:Conferences
DESCRIPTION:
URL:https://elementary.sd42.ca/cusqunela/event/conferences/
CATEGORIES:School Event
END:VEVENT
BEGIN:VEVENT
DTSTART;TZID=America/Vancouver:20260305T113000
DTEND;TZID=America/Vancouver:20260305T143000
DTSTAMP:20260422T185401
CREATED:20260205T231816Z
LAST-MODIFIED:20260205T231816Z
UID:4041-1772710200-1772721000@elementary.sd42.ca
SUMMARY:Conferences: Early Dismissal
DESCRIPTION:Spring conferences in the afternoon\, classes are not in session from 11:30am – 2:30pm.
URL:https://elementary.sd42.ca/cusqunela/event/conferences-early-dismissal/
CATEGORIES:School Event
END:VEVENT
BEGIN:VEVENT
DTSTART;VALUE=DATE:20260302
DTEND;VALUE=DATE:20260307
DTSTAMP:20260422T185401
CREATED:20260205T231620Z
LAST-MODIFIED:20260205T231620Z
UID:4039-1772409600-1772841599@elementary.sd42.ca
SUMMARY:Scholastic Bookfair
DESCRIPTION:
URL:https://elementary.sd42.ca/cusqunela/event/scholastic-bookfair/
CATEGORIES:School Event
END:VEVENT
BEGIN:VEVENT
DTSTART;VALUE=DATE:20260225
DTEND;VALUE=DATE:20260226
DTSTAMP:20260422T185401
CREATED:20260205T231421Z
LAST-MODIFIED:20260205T231421Z
UID:4035-1771977600-1772063999@elementary.sd42.ca
SUMMARY:Pink Shirt Day
DESCRIPTION:
URL:https://elementary.sd42.ca/cusqunela/event/pink-shirt-day-2/
CATEGORIES:School Event
ATTACH;FMTTYPE=image/jpeg:https://wordpress1.blob.core.windows.net/cusqunela/2018/06/Be-Kind.jpg
END:VEVENT
BEGIN:VEVENT
DTSTART;VALUE=DATE:20260217
DTEND;VALUE=DATE:20260219
DTSTAMP:20260422T185401
CREATED:20260205T225335Z
LAST-MODIFIED:20260205T225335Z
UID:4029-1771286400-1771459199@elementary.sd42.ca
SUMMARY:Science World Presentations
DESCRIPTION:
URL:https://elementary.sd42.ca/cusqunela/event/science-world-presentations/
CATEGORIES:School Event
END:VEVENT
BEGIN:VEVENT
DTSTART;VALUE=DATE:20251118
DTEND;VALUE=DATE:20251119
DTSTAMP:20260422T185401
CREATED:20251112T231956Z
LAST-MODIFIED:20251112T232024Z
UID:3968-1763424000-1763510399@elementary.sd42.ca
SUMMARY:Order Deadline - School Photos 2025/2026
DESCRIPTION:
URL:https://elementary.sd42.ca/cusqunela/event/3968/
CATEGORIES:School Event
ATTACH;FMTTYPE=image/jpeg:https://wordpress1.blob.core.windows.net/cusqunela/2025/11/Photo-Deadline.jpg
END:VEVENT
BEGIN:VEVENT
DTSTART;TZID=America/Vancouver:20251107T103000
DTEND;TZID=America/Vancouver:20251107T113000
DTSTAMP:20260422T185401
CREATED:20251007T165031Z
LAST-MODIFIED:20251007T165031Z
UID:3944-1762511400-1762515000@elementary.sd42.ca
SUMMARY:Remembrance Day Gathering
DESCRIPTION:Remembrance Day Gathering 10:45
URL:https://elementary.sd42.ca/cusqunela/event/remembrance-day-gathering-2/
CATEGORIES:School Event
END:VEVENT
BEGIN:VEVENT
DTSTART;VALUE=DATE:20251104
DTEND;VALUE=DATE:20251105
DTSTAMP:20260422T185401
CREATED:20251007T164911Z
LAST-MODIFIED:20251007T164911Z
UID:3942-1762214400-1762300799@elementary.sd42.ca
SUMMARY:Photo Re-Takes
DESCRIPTION:
URL:https://elementary.sd42.ca/cusqunela/event/photo-re-takes/
CATEGORIES:School Event
ATTACH;FMTTYPE=image/jpeg:https://wordpress1.blob.core.windows.net/cusqunela/2025/10/Photo-Day.jpg
END:VEVENT
BEGIN:VEVENT
DTSTART;TZID=America/Vancouver:20251031T090000
DTEND;TZID=America/Vancouver:20251031T100000
DTSTAMP:20260422T185401
CREATED:20251007T164829Z
LAST-MODIFIED:20251007T164829Z
UID:3940-1761901200-1761904800@elementary.sd42.ca
SUMMARY:Halloween Costume Parade
DESCRIPTION:
URL:https://elementary.sd42.ca/cusqunela/event/halloween-costume-parade/
CATEGORIES:School Event
END:VEVENT
BEGIN:VEVENT
DTSTART;VALUE=DATE:20251022
DTEND;VALUE=DATE:20251024
DTSTAMP:20260422T185401
CREATED:20251007T163735Z
LAST-MODIFIED:20251007T163735Z
UID:3933-1761091200-1761263999@elementary.sd42.ca
SUMMARY:Body Science
DESCRIPTION:Saleema Noon’s Body Science Workshops are coming to c’usqunela. The parent workshop is on Oct. 21st at 6:30pm via ZOOM and the student sessions are the following days on Oct. 22nd and 23rd \nOur school will have Saleema Noon provide body science workshops for grade 1 to grade 7 students at c’usqunela this year. Saleema is a well-known provincial expert on how best to talk to kids about their own bodies\, puberty\, and sexuality. \nTo give parents an idea of what is discussed with the kids\, Saleema offers a Parent workshop before the school presentations. This workshop is also filled with ideas on how you can talk with your kids at home about this important topic. More information about the Parent Workshop on Oct. 21st is below and there is also a link explaining a little bit more about the student sessions. \nPlease note that our kindergarten students will not be participating in the presentations this year. \nFor a link to a description of the student presentations\, please click here: \nhttps://www.saleemanoon.com/wp-content/uploads/2022/05/Body-Science-Elementary-Workshop-Outlines-2022.pdf \nIf upon discussion with your family\, you choose to opt out of these presentations\, you may choose to have your child attend another class during this time or stay home during their presentation time.  If so\, please let your child’s classroom teacher know and note that you will be responsible for this portion of the provincial curriculum. \nBody Science Boot Camp for Parents – Saleema Noon – Oct. 21st \nParenthood never arrives with a rulebook\, and when it comes to explaining the world of sexual health to your child\, it can be hard not to end up a bright shade of red. Using humor and straight talk in an open\, interactive environment\, Saleema Noon Sexual Health Educators will show you how easy it is to convey healthy\, positive messages about sexual health to kids.      \nIn this workshop parents will learn: \n\nWhy we need to talk to children about sexual health at a young age\nHow to reduce risk of child sexual abuse\nWhat children should know at each stage of development\, with specific examples of how to explain concepts and processes\nHow to become their kids’ preferred source of sexual health information\nHow to normalize open\, honest sexual health conversations in their family\nHow to effectively answer even the toughest questions kids ask\nWhat will be covered in Body Science workshops for students\nThis workshop will be delivered via live Zoom. The link is below.\n\n 
URL:https://elementary.sd42.ca/cusqunela/event/body-science/
CATEGORIES:School Event
END:VEVENT
BEGIN:VEVENT
DTSTART;TZID=America/Vancouver:20251021T183000
DTEND;TZID=America/Vancouver:20251021T193000
DTSTAMP:20260422T185401
CREATED:20251007T163638Z
LAST-MODIFIED:20251007T163816Z
UID:3931-1761071400-1761075000@elementary.sd42.ca
SUMMARY:Body Science Parent Info
DESCRIPTION:Parent info night for our body science sessions via Zoom. \n  \nSaleema Noon is inviting you to a scheduled Zoom meeting: \nTopic: Ćəsqənelə Parents \nTime: Oct 21\, 2025 06:30 PM Vancouver \nJoin Zoom Meeting \nhttps://us02web.zoom.us/j/82803843633?pwd=3CkJk3fGf9GbnLKogX5jikWyht0U6i.1 \nMeeting ID: 828 0384 3633 \nPasscode: 608575
URL:https://elementary.sd42.ca/cusqunela/event/body-science-parent-info/
CATEGORIES:School Event
END:VEVENT
BEGIN:VEVENT
DTSTART;TZID=America/Vancouver:20251016T080000
DTEND;TZID=America/Vancouver:20251016T170000
DTSTAMP:20260422T185401
CREATED:20251007T160352Z
LAST-MODIFIED:20251007T160352Z
UID:3922-1760601600-1760634000@elementary.sd42.ca
SUMMARY:Primary Cross Country
DESCRIPTION:Primary – Grades 1\, 2\, & 3 Albion Sports Complex\nThursday\, October 16th\nThe race order for our primary runners will be as follows:\nGrade 1 girls\nGrade 1 boys\nGrade 2 girls\nGrade 2 boys\nGrade 3 girls\nGrade 3 boys\nAgain\, while we are not assigning exact times to each race\, we ask that all participants and supervisors arrive at the venue as early as possible to ensure a smooth start.\nThe first race will begin no later than 3:15pm\nWe are aware that traffic leading into Albion Sport’s Complex can be congested. To help alleviate delays and ensure a smooth start\, we ask that you encourage parents to walk to the venue (if possible) or make use of the Planet Ice parking lot and walk over to the Sport’s Complex.
URL:https://elementary.sd42.ca/cusqunela/event/primary-cross-country-2/
CATEGORIES:School Event
END:VEVENT
BEGIN:VEVENT
DTSTART;VALUE=DATE:20251016
DTEND;VALUE=DATE:20251017
DTSTAMP:20260422T185401
CREATED:20251007T161556Z
LAST-MODIFIED:20251010T173953Z
UID:3926-1760572800-1760659199@elementary.sd42.ca
SUMMARY:Photo Day
DESCRIPTION:Individual Class Photo Day! \nMake sure your child comes dressed in their chosen outfit and is ready to show off their best smile! We start with the Kindergarteners and move up to the Grade 7s.
URL:https://elementary.sd42.ca/cusqunela/event/photo-day/
CATEGORIES:School Event
ATTACH;FMTTYPE=image/jpeg:https://wordpress1.blob.core.windows.net/cusqunela/2025/10/Photo-Day.jpg
END:VEVENT
BEGIN:VEVENT
DTSTART;TZID=America/Vancouver:20251014T080000
DTEND;TZID=America/Vancouver:20251014T170000
DTSTAMP:20260422T185402
CREATED:20251007T160319Z
LAST-MODIFIED:20251007T160319Z
UID:3919-1760428800-1760461200@elementary.sd42.ca
SUMMARY:Intermediate Cross Country
DESCRIPTION:Intermediate – Grades 4\, 5\, 6 & 7 (all schools) Alouette Lake Beach/Picnic Area\, Golden Ears Park\nTuesday\, October 14th\nThe race order for our intermediate runners will be as follows: Grade 7 girls\nGrade 7 boys\nGrade 4 girls\nGrade 4 boys\nGrade 5 girls\nGrade 5 boys\nGrade 6 girls\nGrade 6 boys\nWhile we are not assigning exact times to each race\, we ask that all participants and supervisors arrive at the venue as early as possible to ensure a smooth start.\nThe first race will begin no later than 3:30pm.\nThere is a LOT of traffic after school on 232nd near Maple Ridge Park due to after school pick up from Yennadon Elementary. An alternate route that may be less busy could be 132nd but it does still get quite congested at the roundabout by Maple Ridge Park. Please let parents know that if they have a child in grade seven\, they will need to leave as soon as possible after school to ensure they are on time for the first race.
URL:https://elementary.sd42.ca/cusqunela/event/intermediate-cross-country-2/
CATEGORIES:School Event
END:VEVENT
BEGIN:VEVENT
DTSTART;VALUE=DATE:20251006
DTEND;VALUE=DATE:20251018
DTSTAMP:20260422T185402
CREATED:20251007T154857Z
LAST-MODIFIED:20251007T154857Z
UID:3913-1759708800-1760745599@elementary.sd42.ca
SUMMARY:Spirit Wear: Fall Orders
DESCRIPTION:Time to get your c’usqunela Spirit Wear! Please follow the link below to view the order form. Orders are due no later than noon on October 17\, 2025. \n2025 Spirit Wear – School Wide \nIf you’d like to pay via card go to Munchalunch!
URL:https://elementary.sd42.ca/cusqunela/event/spirit-wear-fall-orders/
CATEGORIES:School Event
END:VEVENT
BEGIN:VEVENT
DTSTART;VALUE=DATE:20250606
DTEND;VALUE=DATE:20250607
DTSTAMP:20260422T185402
CREATED:20250509T203503Z
LAST-MODIFIED:20250509T203503Z
UID:3843-1749168000-1749254399@elementary.sd42.ca
SUMMARY:All books due back at the Hive!
DESCRIPTION:
URL:https://elementary.sd42.ca/cusqunela/event/all-books-due-back-at-the-hive/
CATEGORIES:School Event
END:VEVENT
BEGIN:VEVENT
DTSTART;VALUE=DATE:20250605
DTEND;VALUE=DATE:20250606
DTSTAMP:20260422T185402
CREATED:20250509T203403Z
LAST-MODIFIED:20250509T203419Z
UID:3841-1749081600-1749167999@elementary.sd42.ca
SUMMARY:Grade 6 & 7 Track & Field
DESCRIPTION:
URL:https://elementary.sd42.ca/cusqunela/event/grade-6-7-track-field/
CATEGORIES:School Event
END:VEVENT
BEGIN:VEVENT
DTSTART;VALUE=DATE:20250604
DTEND;VALUE=DATE:20250605
DTSTAMP:20260422T185402
CREATED:20250509T203329Z
LAST-MODIFIED:20250509T203329Z
UID:3839-1748995200-1749081599@elementary.sd42.ca
SUMMARY:Grade 4 & 5 Track & Field
DESCRIPTION:
URL:https://elementary.sd42.ca/cusqunela/event/grade-4-5-track-field/
CATEGORIES:School Event
END:VEVENT
BEGIN:VEVENT
DTSTART;TZID=America/Vancouver:20250529T150000
DTEND;TZID=America/Vancouver:20250529T163000
DTSTAMP:20260422T185402
CREATED:20250509T202649Z
LAST-MODIFIED:20250509T202649Z
UID:3830-1748530800-1748536200@elementary.sd42.ca
SUMMARY:Ready\, Set\, Kindergarten
DESCRIPTION:Welcome to our Kindergarten students for the 2025/2026 school year! \nAny students in a K class this year will be dismissed early at 11:00 am so our teachers can prepare to welcome our new families to the school.
URL:https://elementary.sd42.ca/cusqunela/event/ready-set-kindergarten/
CATEGORIES:School Event
END:VEVENT
BEGIN:VEVENT
DTSTART;VALUE=DATE:20250529
DTEND;VALUE=DATE:20250530
DTSTAMP:20260422T185402
CREATED:20240920T202641Z
LAST-MODIFIED:20240920T202958Z
UID:3407-1748476800-1748563199@elementary.sd42.ca
SUMMARY:Grade 6 Vaccinations
DESCRIPTION:
URL:https://elementary.sd42.ca/cusqunela/event/grade-6-vaccinations-2/
CATEGORIES:School Event
END:VEVENT
BEGIN:VEVENT
DTSTART;TZID=America/Vancouver:20250522T143000
DTEND;TZID=America/Vancouver:20250522T163000
DTSTAMP:20260422T185402
CREATED:20250509T202959Z
LAST-MODIFIED:20250509T202959Z
UID:3833-1747924200-1747931400@elementary.sd42.ca
SUMMARY:Primary Cross Country
DESCRIPTION:@ the Albion Sports Complex
URL:https://elementary.sd42.ca/cusqunela/event/primary-cross-country/
CATEGORIES:School Event
END:VEVENT
BEGIN:VEVENT
DTSTART;TZID=America/Vancouver:20250516T130000
DTEND;TZID=America/Vancouver:20250516T143000
DTSTAMP:20260422T185402
CREATED:20250509T193928Z
LAST-MODIFIED:20250509T195237Z
UID:3825-1747400400-1747405800@elementary.sd42.ca
SUMMARY:Wizard of Oz - Cast 3
DESCRIPTION:Cast 3 and the following classes:\nFisher\, Charbonneau\, Affleck\, Chou\, Franco\, Jacobson\, Jones\, Medeiros\, Bzowy\, James
URL:https://elementary.sd42.ca/cusqunela/event/wizard-of-oz-cast-3/
CATEGORIES:School Event
END:VEVENT
BEGIN:VEVENT
DTSTART;TZID=America/Vancouver:20250515T130000
DTEND;TZID=America/Vancouver:20250515T143000
DTSTAMP:20260422T185402
CREATED:20250509T192955Z
LAST-MODIFIED:20250509T195135Z
UID:3822-1747314000-1747319400@elementary.sd42.ca
SUMMARY:Wizard of Oz - Cast 2
DESCRIPTION:Cast 2 and the following classes:\nDoughty\, Friesen\, Kaake\, King\, Pollock\, Allison\, Barichello\, Warren\, Fuller
URL:https://elementary.sd42.ca/cusqunela/event/wizard-of-oz-cast-2/
CATEGORIES:School Event
END:VEVENT
BEGIN:VEVENT
DTSTART;TZID=America/Vancouver:20250513T130000
DTEND;TZID=America/Vancouver:20250513T143000
DTSTAMP:20260422T185402
CREATED:20250509T080026Z
LAST-MODIFIED:20250509T194938Z
UID:3820-1747141200-1747146600@elementary.sd42.ca
SUMMARY:Wizard of Oz - Cast 1
DESCRIPTION:Cast 1 and the following classes\nWoo\, Tones\, Richardson\, Grant\, Crowhurst\, Sylte\, Whitley\, Henderson\, Peebles\, Lee
URL:https://elementary.sd42.ca/cusqunela/event/wizard-of-oz-cast-1/
CATEGORIES:School Event
END:VEVENT
BEGIN:VEVENT
DTSTART;VALUE=DATE:20250512
DTEND;VALUE=DATE:20250513
DTSTAMP:20260422T185402
CREATED:20250509T191709Z
LAST-MODIFIED:20250509T191709Z
UID:3818-1747008000-1747094399@elementary.sd42.ca
SUMMARY:Dress Rehearsal All Casts - Wizard of Oz
DESCRIPTION:
URL:https://elementary.sd42.ca/cusqunela/event/dress-rehearsal-all-casts-wizard-of-oz/
CATEGORIES:School Event
END:VEVENT
BEGIN:VEVENT
DTSTART;VALUE=DATE:20250401
DTEND;VALUE=DATE:20250403
DTSTAMP:20260422T185402
CREATED:20250206T185710Z
LAST-MODIFIED:20250206T185721Z
UID:3777-1743465600-1743638399@elementary.sd42.ca
SUMMARY:Planetarium at CQE
DESCRIPTION:On-site field trip\, all classes will get a chance to visit the portable planetarium at CQE!!
URL:https://elementary.sd42.ca/cusqunela/event/planetarium-at-cqe-4/
CATEGORIES:School Event
ATTACH;FMTTYPE=image/jpeg:https://wordpress1.blob.core.windows.net/cusqunela/2024/09/Copy-of-Day-of-human-space-flight-Facebook-Post-Square.jpg
END:VEVENT
BEGIN:VEVENT
DTSTART;TZID=America/Vancouver:20250313T120000
DTEND;TZID=America/Vancouver:20250313T123000
DTSTAMP:20260422T185402
CREATED:20250109T190737Z
LAST-MODIFIED:20250109T190737Z
UID:3727-1741867200-1741869000@elementary.sd42.ca
SUMMARY:Reading Link Challenge - Grade 4 & 5
DESCRIPTION:The Reading Link Challenge is underway!  Meetings are held Thursdays at 12:00 in the Hive\, bring your lunch with you!
URL:https://elementary.sd42.ca/cusqunela/event/reading-link-challenge-grade-4-5-10/
CATEGORIES:School Event
ATTACH;FMTTYPE=image/jpeg:https://wordpress1.blob.core.windows.net/cusqunela/2025/01/Reading-Link.jpg
END:VEVENT
BEGIN:VEVENT
DTSTART;VALUE=DATE:20250313
DTEND;VALUE=DATE:20250314
DTSTAMP:20260422T185402
CREATED:20250206T185623Z
LAST-MODIFIED:20250206T185623Z
UID:3775-1741824000-1741910399@elementary.sd42.ca
SUMMARY:Planetarium at CQE
DESCRIPTION:On-site field trip\, all classes will get a chance to visit the portable planetarium at CQE!!
URL:https://elementary.sd42.ca/cusqunela/event/planetarium-at-cqe-3/
CATEGORIES:School Event
ATTACH;FMTTYPE=image/jpeg:https://wordpress1.blob.core.windows.net/cusqunela/2024/09/Copy-of-Day-of-human-space-flight-Facebook-Post-Square.jpg
END:VEVENT
BEGIN:VEVENT
DTSTART;VALUE=DATE:20250310
DTEND;VALUE=DATE:20250311
DTSTAMP:20260422T185402
CREATED:20250206T185545Z
LAST-MODIFIED:20250206T185545Z
UID:3773-1741564800-1741651199@elementary.sd42.ca
SUMMARY:Planetarium at CQE
DESCRIPTION:On-site field trip\, all classes will get a chance to visit the portable planetarium at CQE!!
URL:https://elementary.sd42.ca/cusqunela/event/planetarium-at-cqe-2/
CATEGORIES:School Event
ATTACH;FMTTYPE=image/jpeg:https://wordpress1.blob.core.windows.net/cusqunela/2024/09/Copy-of-Day-of-human-space-flight-Facebook-Post-Square.jpg
END:VEVENT
END:VCALENDAR