BEGIN:VCALENDAR
VERSION:2.0
PRODID:-//c̓əsqənelə Elementary - ECPv6.15.14//NONSGML v1.0//EN
CALSCALE:GREGORIAN
METHOD:PUBLISH
X-WR-CALNAME:c̓əsqənelə Elementary
X-ORIGINAL-URL:https://elementary.sd42.ca/cusqunela
X-WR-CALDESC:Events for c̓əsqənelə Elementary
REFRESH-INTERVAL;VALUE=DURATION:PT1H
X-Robots-Tag:noindex
X-PUBLISHED-TTL:PT1H
BEGIN:VTIMEZONE
TZID:America/Vancouver
BEGIN:DAYLIGHT
TZOFFSETFROM:-0800
TZOFFSETTO:-0700
TZNAME:PDT
DTSTART:20230312T100000
END:DAYLIGHT
BEGIN:STANDARD
TZOFFSETFROM:-0700
TZOFFSETTO:-0800
TZNAME:PST
DTSTART:20231105T090000
END:STANDARD
BEGIN:DAYLIGHT
TZOFFSETFROM:-0800
TZOFFSETTO:-0700
TZNAME:PDT
DTSTART:20240310T100000
END:DAYLIGHT
BEGIN:STANDARD
TZOFFSETFROM:-0700
TZOFFSETTO:-0800
TZNAME:PST
DTSTART:20241103T090000
END:STANDARD
BEGIN:DAYLIGHT
TZOFFSETFROM:-0800
TZOFFSETTO:-0700
TZNAME:PDT
DTSTART:20250309T100000
END:DAYLIGHT
BEGIN:STANDARD
TZOFFSETFROM:-0700
TZOFFSETTO:-0800
TZNAME:PST
DTSTART:20251102T090000
END:STANDARD
BEGIN:DAYLIGHT
TZOFFSETFROM:-0800
TZOFFSETTO:-0700
TZNAME:PDT
DTSTART:20260308T100000
END:DAYLIGHT
BEGIN:STANDARD
TZOFFSETFROM:-0700
TZOFFSETTO:-0800
TZNAME:PST
DTSTART:20261101T090000
END:STANDARD
END:VTIMEZONE
BEGIN:VEVENT
DTSTART;TZID=America/Vancouver:20250116T190000
DTEND;TZID=America/Vancouver:20250116T203000
DTSTAMP:20260421T135753
CREATED:20240920T201220Z
LAST-MODIFIED:20240920T201220Z
UID:3385-1737054000-1737059400@elementary.sd42.ca
SUMMARY:PAC Meeting
DESCRIPTION:
URL:https://elementary.sd42.ca/cusqunela/event/pac-meeting-4/
CATEGORIES:PAC Event
END:VEVENT
BEGIN:VEVENT
DTSTART;TZID=America/Vancouver:20241114T190000
DTEND;TZID=America/Vancouver:20241114T203000
DTSTAMP:20260421T135753
CREATED:20240920T195557Z
LAST-MODIFIED:20240920T200837Z
UID:3372-1731610800-1731616200@elementary.sd42.ca
SUMMARY:PAC Meeting
DESCRIPTION:
URL:https://elementary.sd42.ca/cusqunela/event/pac-meeting-3/
CATEGORIES:PAC Event
END:VEVENT
BEGIN:VEVENT
DTSTART;TZID=America/Vancouver:20241018T170000
DTEND;TZID=America/Vancouver:20241018T193000
DTSTAMP:20260421T135753
CREATED:20240920T201741Z
LAST-MODIFIED:20241017T163238Z
UID:3389-1729270800-1729279800@elementary.sd42.ca
SUMMARY:PAC Movie Night
DESCRIPTION:Doors open at 5:00 pm\, movie starts at 6:00 pm!  Come early to get a good spot! \nWe will be watching Hotel Transylvania 3.  Come dressed for the theme in cruise/vacation gear\, or in your PJ’s! \nThis is a Family event\, all children must have parent supervision. \n 
URL:https://elementary.sd42.ca/cusqunela/event/pac-movie-night/
CATEGORIES:PAC Event
END:VEVENT
BEGIN:VEVENT
DTSTART;TZID=America/Vancouver:20241010T190000
DTEND;TZID=America/Vancouver:20241010T203000
DTSTAMP:20260421T135753
CREATED:20240920T194709Z
LAST-MODIFIED:20240920T200702Z
UID:3360-1728586800-1728592200@elementary.sd42.ca
SUMMARY:PAC Meeting
DESCRIPTION:
URL:https://elementary.sd42.ca/cusqunela/event/pac-meeting-2/
CATEGORIES:PAC Event
END:VEVENT
BEGIN:VEVENT
DTSTART;VALUE=DATE:20240927
DTEND;VALUE=DATE:20240928
DTSTAMP:20260421T135753
CREATED:20240920T193056Z
LAST-MODIFIED:20240924T210704Z
UID:3356-1727395200-1727481599@elementary.sd42.ca
SUMMARY:PAC Pancake Day
DESCRIPTION:
URL:https://elementary.sd42.ca/cusqunela/event/pac-pancake-day/
CATEGORIES:PAC Event
ATTACH;FMTTYPE=image/jpeg:https://wordpress1.blob.core.windows.net/cusqunela/2024/09/2024-Pancake-Day.jpeg
END:VEVENT
BEGIN:VEVENT
DTSTART;TZID=America/Vancouver:20240912T190000
DTEND;TZID=America/Vancouver:20240912T203000
DTSTAMP:20260421T135753
CREATED:20240912T140054Z
LAST-MODIFIED:20240920T200439Z
UID:3350-1726167600-1726173000@elementary.sd42.ca
SUMMARY:PAC Meeting
DESCRIPTION:
URL:https://elementary.sd42.ca/cusqunela/event/pac-meeting/
CATEGORIES:PAC Event
END:VEVENT
END:VCALENDAR