BEGIN:VCALENDAR
VERSION:2.0
PRODID:-//c̓əsqənelə Elementary - ECPv6.15.14//NONSGML v1.0//EN
CALSCALE:GREGORIAN
METHOD:PUBLISH
X-WR-CALNAME:c̓əsqənelə Elementary
X-ORIGINAL-URL:https://elementary.sd42.ca/cusqunela
X-WR-CALDESC:Events for c̓əsqənelə Elementary
REFRESH-INTERVAL;VALUE=DURATION:PT1H
X-Robots-Tag:noindex
X-PUBLISHED-TTL:PT1H
BEGIN:VTIMEZONE
TZID:America/Vancouver
BEGIN:DAYLIGHT
TZOFFSETFROM:-0800
TZOFFSETTO:-0700
TZNAME:PDT
DTSTART:20230312T100000
END:DAYLIGHT
BEGIN:STANDARD
TZOFFSETFROM:-0700
TZOFFSETTO:-0800
TZNAME:PST
DTSTART:20231105T090000
END:STANDARD
BEGIN:DAYLIGHT
TZOFFSETFROM:-0800
TZOFFSETTO:-0700
TZNAME:PDT
DTSTART:20240310T100000
END:DAYLIGHT
BEGIN:STANDARD
TZOFFSETFROM:-0700
TZOFFSETTO:-0800
TZNAME:PST
DTSTART:20241103T090000
END:STANDARD
BEGIN:DAYLIGHT
TZOFFSETFROM:-0800
TZOFFSETTO:-0700
TZNAME:PDT
DTSTART:20250309T100000
END:DAYLIGHT
BEGIN:STANDARD
TZOFFSETFROM:-0700
TZOFFSETTO:-0800
TZNAME:PST
DTSTART:20251102T090000
END:STANDARD
BEGIN:DAYLIGHT
TZOFFSETFROM:-0800
TZOFFSETTO:-0700
TZNAME:PDT
DTSTART:20260308T100000
END:DAYLIGHT
BEGIN:STANDARD
TZOFFSETFROM:-0700
TZOFFSETTO:-0800
TZNAME:PST
DTSTART:20261101T090000
END:STANDARD
BEGIN:DAYLIGHT
TZOFFSETFROM:-0800
TZOFFSETTO:-0700
TZNAME:PDT
DTSTART:20270314T100000
END:DAYLIGHT
BEGIN:STANDARD
TZOFFSETFROM:-0700
TZOFFSETTO:-0800
TZNAME:PST
DTSTART:20271107T090000
END:STANDARD
END:VTIMEZONE
BEGIN:VEVENT
DTSTART;TZID=America/Vancouver:20260310T193000
DTEND;TZID=America/Vancouver:20260310T203000
DTSTAMP:20260421T151943
CREATED:20260205T231945Z
LAST-MODIFIED:20260205T231945Z
UID:4045-1773171000-1773174600@elementary.sd42.ca
SUMMARY:PAC Meeting
DESCRIPTION:In person at c’usqunela Elementary School.
URL:https://elementary.sd42.ca/cusqunela/event/pac-meeting-10/
CATEGORIES:PAC Event
END:VEVENT
BEGIN:VEVENT
DTSTART;VALUE=DATE:20260225
DTEND;VALUE=DATE:20260226
DTSTAMP:20260421T151943
CREATED:20260205T231503Z
LAST-MODIFIED:20260205T231503Z
UID:4037-1771977600-1772063999@elementary.sd42.ca
SUMMARY:PAC Hot Lunch
DESCRIPTION:Dominos & Subway
URL:https://elementary.sd42.ca/cusqunela/event/pac-hot-lunch-4/
CATEGORIES:PAC Event
ATTACH;FMTTYPE=image/jpeg:https://wordpress1.blob.core.windows.net/cusqunela/2025/10/Hot-Lunch.jpg
END:VEVENT
BEGIN:VEVENT
DTSTART;VALUE=DATE:20260219
DTEND;VALUE=DATE:20260220
DTSTAMP:20260421T151943
CREATED:20260205T225428Z
LAST-MODIFIED:20260205T225442Z
UID:4031-1771459200-1771545599@elementary.sd42.ca
SUMMARY:PAC Treat Day
DESCRIPTION:Booster Juice for those that ordered!
URL:https://elementary.sd42.ca/cusqunela/event/pac-treat-day-2/
CATEGORIES:PAC Event
ATTACH;FMTTYPE=image/jpeg:https://wordpress1.blob.core.windows.net/cusqunela/2025/10/Treat-Day.jpg
END:VEVENT
BEGIN:VEVENT
DTSTART;TZID=America/Vancouver:20260212T180000
DTEND;TZID=America/Vancouver:20260212T200000
DTSTAMP:20260421T151943
CREATED:20260205T225258Z
LAST-MODIFIED:20260205T225258Z
UID:4025-1770919200-1770926400@elementary.sd42.ca
SUMMARY:PAC Glow Dance
DESCRIPTION:GLOWING HEARTS DANCE!
URL:https://elementary.sd42.ca/cusqunela/event/pac-glow-dance/
CATEGORIES:PAC Event
ATTACH;FMTTYPE=image/jpeg:https://wordpress1.blob.core.windows.net/cusqunela/2026/02/GLOWING-HEARTS-DANCE.jpg
END:VEVENT
BEGIN:VEVENT
DTSTART;TZID=America/Vancouver:20260210T193000
DTEND;TZID=America/Vancouver:20260210T203000
DTSTAMP:20260421T151943
CREATED:20260205T224913Z
LAST-MODIFIED:20260205T224913Z
UID:4023-1770751800-1770755400@elementary.sd42.ca
SUMMARY:PAC Meeting
DESCRIPTION:Via Zoom
URL:https://elementary.sd42.ca/cusqunela/event/pac-meeting-9/
CATEGORIES:PAC Event
END:VEVENT
BEGIN:VEVENT
DTSTART;VALUE=DATE:20260209
DTEND;VALUE=DATE:20260210
DTSTAMP:20260421T151943
CREATED:20260205T224743Z
LAST-MODIFIED:20260205T224743Z
UID:4020-1770595200-1770681599@elementary.sd42.ca
SUMMARY:PAC Hot Lunch
DESCRIPTION:Opa and Dominos for those that ordered!
URL:https://elementary.sd42.ca/cusqunela/event/pac-hot-lunch-3/
CATEGORIES:PAC Event
ATTACH;FMTTYPE=image/jpeg:https://wordpress1.blob.core.windows.net/cusqunela/2025/10/Hot-Lunch.jpg
END:VEVENT
BEGIN:VEVENT
DTSTART;TZID=America/Vancouver:20251222T100000
DTEND;TZID=America/Vancouver:20251222T110000
DTSTAMP:20260421T151943
CREATED:20251211T173917Z
LAST-MODIFIED:20251211T173917Z
UID:4002-1766397600-1766401200@elementary.sd42.ca
SUMMARY:PAC Free Family Skate
DESCRIPTION:Join us for the CQE Family Skate!  \nMonday December 22\, 10-11am\, at the Pitt Meadows Arena “Red Rink” \nEntry to this event is Sponsored by the PAC. Helmet and Skate rentals are available for a cost at the arena.
URL:https://elementary.sd42.ca/cusqunela/event/pac-free-family-skate/
CATEGORIES:PAC Event
ATTACH;FMTTYPE=image/jpeg:https://wordpress1.blob.core.windows.net/cusqunela/2018/06/family-skate-poster.jpg
END:VEVENT
BEGIN:VEVENT
DTSTART;VALUE=DATE:20251107
DTEND;VALUE=DATE:20251108
DTSTAMP:20260421T151943
CREATED:20251007T170751Z
LAST-MODIFIED:20251007T173255Z
UID:3946-1762473600-1762559999@elementary.sd42.ca
SUMMARY:PAC Treat Day
DESCRIPTION:Frozen Yogurt for those who ordered.
URL:https://elementary.sd42.ca/cusqunela/event/pac-treat-day/
CATEGORIES:PAC Event
ATTACH;FMTTYPE=image/jpeg:https://wordpress1.blob.core.windows.net/cusqunela/2025/10/Treat-Day.jpg
END:VEVENT
BEGIN:VEVENT
DTSTART;VALUE=DATE:20251029
DTEND;VALUE=DATE:20251030
DTSTAMP:20260421T151943
CREATED:20251007T164341Z
LAST-MODIFIED:20251007T164744Z
UID:3938-1761696000-1761782399@elementary.sd42.ca
SUMMARY:PAC Hot Lunch
DESCRIPTION:Masala Boyz for those who ordered.
URL:https://elementary.sd42.ca/cusqunela/event/pac-hot-lunch-2/
CATEGORIES:PAC Event
ATTACH;FMTTYPE=image/jpeg:https://wordpress1.blob.core.windows.net/cusqunela/2025/10/Hot-Lunch.jpg
END:VEVENT
BEGIN:VEVENT
DTSTART;TZID=America/Vancouver:20251023T180000
DTEND;TZID=America/Vancouver:20251023T200000
DTSTAMP:20260421T151943
CREATED:20251007T164212Z
LAST-MODIFIED:20251007T164212Z
UID:3936-1761242400-1761249600@elementary.sd42.ca
SUMMARY:PAC Movie Night
DESCRIPTION:Join us for the PAC movie night fundraiser. The movie is the live action Lilo and Stitch!
URL:https://elementary.sd42.ca/cusqunela/event/pac-movie-night-2/
CATEGORIES:PAC Event
END:VEVENT
BEGIN:VEVENT
DTSTART;TZID=America/Vancouver:20251014T193000
DTEND;TZID=America/Vancouver:20251014T203000
DTSTAMP:20260421T151943
CREATED:20251007T160447Z
LAST-MODIFIED:20251007T160447Z
UID:3924-1760470200-1760473800@elementary.sd42.ca
SUMMARY:PAC meeting via Zoom
DESCRIPTION:
URL:https://elementary.sd42.ca/cusqunela/event/pac-meeting-via-zoom/
CATEGORIES:PAC Event
END:VEVENT
BEGIN:VEVENT
DTSTART;VALUE=DATE:20251014
DTEND;VALUE=DATE:20251015
DTSTAMP:20260421T151943
CREATED:20251007T160154Z
LAST-MODIFIED:20251007T160154Z
UID:3916-1760400000-1760486399@elementary.sd42.ca
SUMMARY:PAC Hot Lunch
DESCRIPTION:Fuel Catering for those that ordered.
URL:https://elementary.sd42.ca/cusqunela/event/pac-hot-lunch/
CATEGORIES:PAC Event
ATTACH;FMTTYPE=image/jpeg:https://wordpress1.blob.core.windows.net/cusqunela/2025/10/Hot-Lunch.jpg
END:VEVENT
BEGIN:VEVENT
DTSTART;TZID=America/Vancouver:20250612T190000
DTEND;TZID=America/Vancouver:20250612T203000
DTSTAMP:20260421T151943
CREATED:20240920T202735Z
LAST-MODIFIED:20240920T202735Z
UID:3409-1749754800-1749760200@elementary.sd42.ca
SUMMARY:PAC Meeting
DESCRIPTION:
URL:https://elementary.sd42.ca/cusqunela/event/pac-meeting-7/
CATEGORIES:PAC Event
END:VEVENT
BEGIN:VEVENT
DTSTART;VALUE=DATE:20250530
DTEND;VALUE=DATE:20250531
DTSTAMP:20260421T151943
CREATED:20250509T203225Z
LAST-MODIFIED:20250509T203225Z
UID:3837-1748563200-1748649599@elementary.sd42.ca
SUMMARY:PAC Fun Day!
DESCRIPTION:
URL:https://elementary.sd42.ca/cusqunela/event/pac-fun-day/
CATEGORIES:PAC Event
END:VEVENT
BEGIN:VEVENT
DTSTART;TZID=America/Vancouver:20250508T190000
DTEND;TZID=America/Vancouver:20250508T203000
DTSTAMP:20260421T151943
CREATED:20240920T202552Z
LAST-MODIFIED:20240920T203135Z
UID:3405-1746730800-1746736200@elementary.sd42.ca
SUMMARY:PAC AGM
DESCRIPTION:Meeting to vote members into executive positions
URL:https://elementary.sd42.ca/cusqunela/event/pac-agm/
CATEGORIES:PAC Event
END:VEVENT
BEGIN:VEVENT
DTSTART;TZID=America/Vancouver:20250410T190000
DTEND;TZID=America/Vancouver:20250410T203000
DTSTAMP:20260421T151943
CREATED:20240920T202434Z
LAST-MODIFIED:20240920T202434Z
UID:3403-1744311600-1744317000@elementary.sd42.ca
SUMMARY:PAC Meeting
DESCRIPTION:
URL:https://elementary.sd42.ca/cusqunela/event/pac-meeting-6/
CATEGORIES:PAC Event
END:VEVENT
BEGIN:VEVENT
DTSTART;VALUE=DATE:20250404
DTEND;VALUE=DATE:20250405
DTSTAMP:20260421T151943
CREATED:20240920T202354Z
LAST-MODIFIED:20240920T202354Z
UID:3401-1743724800-1743811199@elementary.sd42.ca
SUMMARY:PAC Hot Dog Day
DESCRIPTION:
URL:https://elementary.sd42.ca/cusqunela/event/pac-hot-dog-day/
CATEGORIES:PAC Event
END:VEVENT
BEGIN:VEVENT
DTSTART;TZID=America/Vancouver:20250313T190000
DTEND;TZID=America/Vancouver:20250313T203000
DTSTAMP:20260421T151943
CREATED:20240920T204354Z
LAST-MODIFIED:20240920T204354Z
UID:3413-1741892400-1741897800@elementary.sd42.ca
SUMMARY:PAC Meeting
DESCRIPTION:
URL:https://elementary.sd42.ca/cusqunela/event/pac-meeting-8/
CATEGORIES:PAC Event
END:VEVENT
BEGIN:VEVENT
DTSTART;TZID=America/Vancouver:20250213T190000
DTEND;TZID=America/Vancouver:20250213T203000
DTSTAMP:20260421T151943
CREATED:20240920T203630Z
LAST-MODIFIED:20240920T203630Z
UID:3411-1739473200-1739478600@elementary.sd42.ca
SUMMARY:PAC Meeting
DESCRIPTION:
URL:https://elementary.sd42.ca/cusqunela/event/pac-meeting-5/
CATEGORIES:PAC Event
END:VEVENT
BEGIN:VEVENT
DTSTART;TZID=America/Vancouver:20250207T183000
DTEND;TZID=America/Vancouver:20250207T203000
DTSTAMP:20260421T151943
CREATED:20240920T201830Z
LAST-MODIFIED:20250109T184636Z
UID:3391-1738953000-1738960200@elementary.sd42.ca
SUMMARY:PAC Family Dance
DESCRIPTION:This is a Family event\, all children must have parent supervision.
URL:https://elementary.sd42.ca/cusqunela/event/pac-school-dance/
CATEGORIES:PAC Event
ATTACH;FMTTYPE=image/jpeg:https://wordpress1.blob.core.windows.net/cusqunela/2024/09/Glow-Dance.jpg
END:VEVENT
BEGIN:VEVENT
DTSTART;TZID=America/Vancouver:20250116T190000
DTEND;TZID=America/Vancouver:20250116T203000
DTSTAMP:20260421T151943
CREATED:20240920T201220Z
LAST-MODIFIED:20240920T201220Z
UID:3385-1737054000-1737059400@elementary.sd42.ca
SUMMARY:PAC Meeting
DESCRIPTION:
URL:https://elementary.sd42.ca/cusqunela/event/pac-meeting-4/
CATEGORIES:PAC Event
END:VEVENT
BEGIN:VEVENT
DTSTART;TZID=America/Vancouver:20241114T190000
DTEND;TZID=America/Vancouver:20241114T203000
DTSTAMP:20260421T151943
CREATED:20240920T195557Z
LAST-MODIFIED:20240920T200837Z
UID:3372-1731610800-1731616200@elementary.sd42.ca
SUMMARY:PAC Meeting
DESCRIPTION:
URL:https://elementary.sd42.ca/cusqunela/event/pac-meeting-3/
CATEGORIES:PAC Event
END:VEVENT
BEGIN:VEVENT
DTSTART;TZID=America/Vancouver:20241018T170000
DTEND;TZID=America/Vancouver:20241018T193000
DTSTAMP:20260421T151943
CREATED:20240920T201741Z
LAST-MODIFIED:20241017T163238Z
UID:3389-1729270800-1729279800@elementary.sd42.ca
SUMMARY:PAC Movie Night
DESCRIPTION:Doors open at 5:00 pm\, movie starts at 6:00 pm!  Come early to get a good spot! \nWe will be watching Hotel Transylvania 3.  Come dressed for the theme in cruise/vacation gear\, or in your PJ’s! \nThis is a Family event\, all children must have parent supervision. \n 
URL:https://elementary.sd42.ca/cusqunela/event/pac-movie-night/
CATEGORIES:PAC Event
END:VEVENT
BEGIN:VEVENT
DTSTART;TZID=America/Vancouver:20241010T190000
DTEND;TZID=America/Vancouver:20241010T203000
DTSTAMP:20260421T151943
CREATED:20240920T194709Z
LAST-MODIFIED:20240920T200702Z
UID:3360-1728586800-1728592200@elementary.sd42.ca
SUMMARY:PAC Meeting
DESCRIPTION:
URL:https://elementary.sd42.ca/cusqunela/event/pac-meeting-2/
CATEGORIES:PAC Event
END:VEVENT
BEGIN:VEVENT
DTSTART;VALUE=DATE:20240927
DTEND;VALUE=DATE:20240928
DTSTAMP:20260421T151943
CREATED:20240920T193056Z
LAST-MODIFIED:20240924T210704Z
UID:3356-1727395200-1727481599@elementary.sd42.ca
SUMMARY:PAC Pancake Day
DESCRIPTION:
URL:https://elementary.sd42.ca/cusqunela/event/pac-pancake-day/
CATEGORIES:PAC Event
ATTACH;FMTTYPE=image/jpeg:https://wordpress1.blob.core.windows.net/cusqunela/2024/09/2024-Pancake-Day.jpeg
END:VEVENT
BEGIN:VEVENT
DTSTART;TZID=America/Vancouver:20240912T190000
DTEND;TZID=America/Vancouver:20240912T203000
DTSTAMP:20260421T151943
CREATED:20240912T140054Z
LAST-MODIFIED:20240920T200439Z
UID:3350-1726167600-1726173000@elementary.sd42.ca
SUMMARY:PAC Meeting
DESCRIPTION:
URL:https://elementary.sd42.ca/cusqunela/event/pac-meeting/
CATEGORIES:PAC Event
END:VEVENT
END:VCALENDAR