BEGIN:VCALENDAR
VERSION:2.0
PRODID:-//c̓əsqənelə Elementary - ECPv6.15.14//NONSGML v1.0//EN
CALSCALE:GREGORIAN
METHOD:PUBLISH
X-WR-CALNAME:c̓əsqənelə Elementary
X-ORIGINAL-URL:https://elementary.sd42.ca/cusqunela
X-WR-CALDESC:Events for c̓əsqənelə Elementary
REFRESH-INTERVAL;VALUE=DURATION:PT1H
X-Robots-Tag:noindex
X-PUBLISHED-TTL:PT1H
BEGIN:VTIMEZONE
TZID:America/Vancouver
BEGIN:DAYLIGHT
TZOFFSETFROM:-0800
TZOFFSETTO:-0700
TZNAME:PDT
DTSTART:20240310T100000
END:DAYLIGHT
BEGIN:STANDARD
TZOFFSETFROM:-0700
TZOFFSETTO:-0800
TZNAME:PST
DTSTART:20241103T090000
END:STANDARD
BEGIN:DAYLIGHT
TZOFFSETFROM:-0800
TZOFFSETTO:-0700
TZNAME:PDT
DTSTART:20250309T100000
END:DAYLIGHT
BEGIN:STANDARD
TZOFFSETFROM:-0700
TZOFFSETTO:-0800
TZNAME:PST
DTSTART:20251102T090000
END:STANDARD
BEGIN:DAYLIGHT
TZOFFSETFROM:-0800
TZOFFSETTO:-0700
TZNAME:PDT
DTSTART:20260308T100000
END:DAYLIGHT
BEGIN:STANDARD
TZOFFSETFROM:-0700
TZOFFSETTO:-0800
TZNAME:PST
DTSTART:20261101T090000
END:STANDARD
BEGIN:DAYLIGHT
TZOFFSETFROM:-0800
TZOFFSETTO:-0700
TZNAME:PDT
DTSTART:20270314T100000
END:DAYLIGHT
BEGIN:STANDARD
TZOFFSETFROM:-0700
TZOFFSETTO:-0800
TZNAME:PST
DTSTART:20271107T090000
END:STANDARD
END:VTIMEZONE
BEGIN:VEVENT
DTSTART;VALUE=DATE:20260406
DTEND;VALUE=DATE:20260407
DTSTAMP:20260420T201456
CREATED:20241108T230342Z
LAST-MODIFIED:20241108T230342Z
UID:3626-1775433600-1775519999@elementary.sd42.ca
SUMMARY:Easter Monday
DESCRIPTION:School not in session.
URL:https://elementary.sd42.ca/cusqunela/event/easter-monday-8/
CATEGORIES:district calendar
END:VEVENT
BEGIN:VEVENT
DTSTART;VALUE=DATE:20260403
DTEND;VALUE=DATE:20260404
DTSTAMP:20260420T201456
CREATED:20241108T230341Z
LAST-MODIFIED:20241108T230341Z
UID:3625-1775174400-1775260799@elementary.sd42.ca
SUMMARY:Good Friday
DESCRIPTION:Statutory holiday. School not in session.
URL:https://elementary.sd42.ca/cusqunela/event/good-friday-8/
CATEGORIES:district calendar
END:VEVENT
BEGIN:VEVENT
DTSTART;VALUE=DATE:20260330
DTEND;VALUE=DATE:20260331
DTSTAMP:20260420T201456
CREATED:20241108T230341Z
LAST-MODIFIED:20241108T230341Z
UID:3624-1774828800-1774915199@elementary.sd42.ca
SUMMARY:School reopens after break
DESCRIPTION:School reopens after break.
URL:https://elementary.sd42.ca/cusqunela/event/school-reopens-after-break-8/
CATEGORIES:district calendar
END:VEVENT
BEGIN:VEVENT
DTSTART;VALUE=DATE:20260323
DTEND;VALUE=DATE:20260328
DTSTAMP:20260420T201456
CREATED:20241108T230340Z
LAST-MODIFIED:20241108T230340Z
UID:3623-1774224000-1774655999@elementary.sd42.ca
SUMMARY:School not in session
DESCRIPTION:School not in session.
URL:https://elementary.sd42.ca/cusqunela/event/school-not-in-session-9/
CATEGORIES:district calendar
END:VEVENT
BEGIN:VEVENT
DTSTART;VALUE=DATE:20260316
DTEND;VALUE=DATE:20260321
DTSTAMP:20260420T201456
CREATED:20241108T230315Z
LAST-MODIFIED:20241108T230315Z
UID:3622-1773619200-1774051199@elementary.sd42.ca
SUMMARY:Spring break
DESCRIPTION:School closed for spring break
URL:https://elementary.sd42.ca/cusqunela/event/spring-break-8/
CATEGORIES:district calendar
END:VEVENT
BEGIN:VEVENT
DTSTART;VALUE=DATE:20260313
DTEND;VALUE=DATE:20260314
DTSTAMP:20260420T201456
CREATED:20241108T230315Z
LAST-MODIFIED:20241108T230315Z
UID:3621-1773360000-1773446399@elementary.sd42.ca
SUMMARY:Last day of school before break
DESCRIPTION:Last day of school before break.
URL:https://elementary.sd42.ca/cusqunela/event/last-day-of-school-before-break-5/
CATEGORIES:district calendar
END:VEVENT
BEGIN:VEVENT
DTSTART;VALUE=DATE:20260216
DTEND;VALUE=DATE:20260217
DTSTAMP:20260420T201456
CREATED:20241108T230314Z
LAST-MODIFIED:20241108T230314Z
UID:3620-1771200000-1771286399@elementary.sd42.ca
SUMMARY:Family Day
DESCRIPTION:Statutory holiday. School not in session.
URL:https://elementary.sd42.ca/cusqunela/event/family-day-8/
CATEGORIES:district calendar
END:VEVENT
BEGIN:VEVENT
DTSTART;VALUE=DATE:20260213
DTEND;VALUE=DATE:20260214
DTSTAMP:20260420T201456
CREATED:20241108T230313Z
LAST-MODIFIED:20241108T230313Z
UID:3619-1770940800-1771027199@elementary.sd42.ca
SUMMARY:Non-instructional day (school-based)
DESCRIPTION:School not in session.
URL:https://elementary.sd42.ca/cusqunela/event/non-instructional-day-school-based-14/
CATEGORIES:district calendar
END:VEVENT
BEGIN:VEVENT
DTSTART;VALUE=DATE:20260127
DTEND;VALUE=DATE:20260128
DTSTAMP:20260420T201456
CREATED:20241108T230313Z
LAST-MODIFIED:20241108T230313Z
UID:3618-1769472000-1769558399@elementary.sd42.ca
SUMMARY:Non-instructional day (district-based)
DESCRIPTION:School not in session.
URL:https://elementary.sd42.ca/cusqunela/event/non-instructional-day-district-based-13/
CATEGORIES:district calendar
END:VEVENT
BEGIN:VEVENT
DTSTART;VALUE=DATE:20260105
DTEND;VALUE=DATE:20260106
DTSTAMP:20260420T201456
CREATED:20241108T230255Z
LAST-MODIFIED:20241108T230255Z
UID:3617-1767571200-1767657599@elementary.sd42.ca
SUMMARY:School reopens after winter break
DESCRIPTION:School reopens after break.
URL:https://elementary.sd42.ca/cusqunela/event/school-reopens-after-winter-break-8/
CATEGORIES:district calendar
END:VEVENT
BEGIN:VEVENT
DTSTART;VALUE=DATE:20251222
DTEND;VALUE=DATE:20260103
DTSTAMP:20260420T201456
CREATED:20241108T230255Z
LAST-MODIFIED:20241108T230255Z
UID:3616-1766361600-1767398399@elementary.sd42.ca
SUMMARY:Winter break
DESCRIPTION:School closed for winter break.
URL:https://elementary.sd42.ca/cusqunela/event/winter-break-8/
CATEGORIES:district calendar
END:VEVENT
BEGIN:VEVENT
DTSTART;VALUE=DATE:20251219
DTEND;VALUE=DATE:20251220
DTSTAMP:20260420T201456
CREATED:20241108T230254Z
LAST-MODIFIED:20241108T230254Z
UID:3615-1766102400-1766188799@elementary.sd42.ca
SUMMARY:Last day of school before winter break
DESCRIPTION:Last day of school before winter break.
URL:https://elementary.sd42.ca/cusqunela/event/last-day-of-school-before-winter-break-8/
CATEGORIES:district calendar
END:VEVENT
BEGIN:VEVENT
DTSTART;VALUE=DATE:20251111
DTEND;VALUE=DATE:20251112
DTSTAMP:20260420T201456
CREATED:20241108T230254Z
LAST-MODIFIED:20241108T230254Z
UID:3614-1762819200-1762905599@elementary.sd42.ca
SUMMARY:Remembrance Day
DESCRIPTION:Statutory holiday. School not in session.
URL:https://elementary.sd42.ca/cusqunela/event/remembrance-day-8/
CATEGORIES:district calendar
END:VEVENT
BEGIN:VEVENT
DTSTART;VALUE=DATE:20251110
DTEND;VALUE=DATE:20251111
DTSTAMP:20260420T201456
CREATED:20241108T230253Z
LAST-MODIFIED:20241108T230253Z
UID:3613-1762732800-1762819199@elementary.sd42.ca
SUMMARY:Non-instructional day (school-based)
DESCRIPTION:School not in session.
URL:https://elementary.sd42.ca/cusqunela/event/non-instructional-day-school-based-13/
CATEGORIES:district calendar
END:VEVENT
BEGIN:VEVENT
DTSTART;VALUE=DATE:20251024
DTEND;VALUE=DATE:20251025
DTSTAMP:20260420T201456
CREATED:20241108T230248Z
LAST-MODIFIED:20241108T230248Z
UID:3612-1761264000-1761350399@elementary.sd42.ca
SUMMARY:Non-instructional day (province-wide)
DESCRIPTION:School not in session.
URL:https://elementary.sd42.ca/cusqunela/event/non-instructional-day-province-wide-7/
CATEGORIES:district calendar
END:VEVENT
BEGIN:VEVENT
DTSTART;VALUE=DATE:20251013
DTEND;VALUE=DATE:20251014
DTSTAMP:20260420T201456
CREATED:20241108T230248Z
LAST-MODIFIED:20241108T230248Z
UID:3611-1760313600-1760399999@elementary.sd42.ca
SUMMARY:Thanksgiving Day
DESCRIPTION:Statutory holiday. School not in session.
URL:https://elementary.sd42.ca/cusqunela/event/thanksgiving-day-7/
CATEGORIES:district calendar
END:VEVENT
BEGIN:VEVENT
DTSTART;VALUE=DATE:20251010
DTEND;VALUE=DATE:20251011
DTSTAMP:20260420T201456
CREATED:20241108T230247Z
LAST-MODIFIED:20241108T230247Z
UID:3610-1760054400-1760140799@elementary.sd42.ca
SUMMARY:Non-instructional day (school growth planning day)
DESCRIPTION:School not in session.
URL:https://elementary.sd42.ca/cusqunela/event/non-instructional-day-school-growth-planning-day-6/
CATEGORIES:district calendar
END:VEVENT
BEGIN:VEVENT
DTSTART;VALUE=DATE:20250930
DTEND;VALUE=DATE:20251001
DTSTAMP:20260420T201456
CREATED:20241108T230246Z
LAST-MODIFIED:20241108T230246Z
UID:3609-1759190400-1759276799@elementary.sd42.ca
SUMMARY:National Day for Truth and Reconciliation
DESCRIPTION:Statutory holiday. School not in session.
URL:https://elementary.sd42.ca/cusqunela/event/national-day-for-truth-and-reconciliation-5/
CATEGORIES:district calendar
END:VEVENT
BEGIN:VEVENT
DTSTART;TZID=America/Vancouver:20250902T123000
DTEND;TZID=America/Vancouver:20250902T123000
DTSTAMP:20260420T201456
CREATED:20241108T230246Z
LAST-MODIFIED:20250829T151650Z
UID:3608-1756816200-1756816200@elementary.sd42.ca
SUMMARY:School opens following summer holidays
DESCRIPTION:School opens following summer holidays. Students attend from 12:30-2:20.
URL:https://elementary.sd42.ca/cusqunela/event/school-opens-following-summer-holidays-7/
CATEGORIES:district calendar
END:VEVENT
BEGIN:VEVENT
DTSTART;VALUE=DATE:20250626
DTEND;VALUE=DATE:20250627
DTSTAMP:20260420T201456
CREATED:20240702T210900Z
LAST-MODIFIED:20240702T210900Z
UID:3336-1750896000-1750982399@elementary.sd42.ca
SUMMARY:Year-end administrative day
DESCRIPTION:Year-end administrative day.
URL:https://elementary.sd42.ca/cusqunela/event/year-end-administrative-day-6/
CATEGORIES:district calendar
END:VEVENT
BEGIN:VEVENT
DTSTART;VALUE=DATE:20250626
DTEND;VALUE=DATE:20250627
DTSTAMP:20260420T201456
CREATED:20240702T210900Z
LAST-MODIFIED:20240702T210900Z
UID:3337-1750896000-1750982399@elementary.sd42.ca
SUMMARY:School closes for summer holidays
DESCRIPTION:School closes for summer holidays
URL:https://elementary.sd42.ca/cusqunela/event/school-closes-for-summer-holidays-6/
CATEGORIES:district calendar
END:VEVENT
BEGIN:VEVENT
DTSTART;VALUE=DATE:20250625
DTEND;VALUE=DATE:20250626
DTSTAMP:20260420T201456
CREATED:20240702T210859Z
LAST-MODIFIED:20240702T210859Z
UID:3335-1750809600-1750895999@elementary.sd42.ca
SUMMARY:Last day for students
DESCRIPTION:Last day for students before summer break.
URL:https://elementary.sd42.ca/cusqunela/event/last-day-for-students-6/
CATEGORIES:district calendar
END:VEVENT
BEGIN:VEVENT
DTSTART;VALUE=DATE:20250519
DTEND;VALUE=DATE:20250520
DTSTAMP:20260420T201456
CREATED:20240702T210859Z
LAST-MODIFIED:20240702T210859Z
UID:3334-1747612800-1747699199@elementary.sd42.ca
SUMMARY:Victoria Day
DESCRIPTION:Statutory holiday. School not in session.
URL:https://elementary.sd42.ca/cusqunela/event/victoria-day-6/
CATEGORIES:district calendar
END:VEVENT
BEGIN:VEVENT
DTSTART;VALUE=DATE:20250514
DTEND;VALUE=DATE:20250515
DTSTAMP:20260420T201456
CREATED:20240702T210848Z
LAST-MODIFIED:20240702T210848Z
UID:3333-1747180800-1747267199@elementary.sd42.ca
SUMMARY:Non-instructional day (district-based)
DESCRIPTION:School not in session.
URL:https://elementary.sd42.ca/cusqunela/event/non-instructional-day-district-based-12/
CATEGORIES:district calendar
END:VEVENT
BEGIN:VEVENT
DTSTART;VALUE=DATE:20250421
DTEND;VALUE=DATE:20250422
DTSTAMP:20260420T201456
CREATED:20240702T210848Z
LAST-MODIFIED:20240702T210848Z
UID:3332-1745193600-1745279999@elementary.sd42.ca
SUMMARY:Easter Monday
DESCRIPTION:School not in session.
URL:https://elementary.sd42.ca/cusqunela/event/easter-monday-7/
CATEGORIES:district calendar
END:VEVENT
BEGIN:VEVENT
DTSTART;VALUE=DATE:20250418
DTEND;VALUE=DATE:20250419
DTSTAMP:20260420T201456
CREATED:20240702T210847Z
LAST-MODIFIED:20240702T210847Z
UID:3331-1744934400-1745020799@elementary.sd42.ca
SUMMARY:Good Friday
DESCRIPTION:Statutory holiday. School not in session.
URL:https://elementary.sd42.ca/cusqunela/event/good-friday-7/
CATEGORIES:district calendar
END:VEVENT
BEGIN:VEVENT
DTSTART;VALUE=DATE:20250331
DTEND;VALUE=DATE:20250401
DTSTAMP:20260420T201456
CREATED:20240702T210847Z
LAST-MODIFIED:20240702T210847Z
UID:3330-1743379200-1743465599@elementary.sd42.ca
SUMMARY:School reopens after break
DESCRIPTION:School reopens after break.
URL:https://elementary.sd42.ca/cusqunela/event/school-reopens-after-break-7/
CATEGORIES:district calendar
END:VEVENT
BEGIN:VEVENT
DTSTART;VALUE=DATE:20250324
DTEND;VALUE=DATE:20250329
DTSTAMP:20260420T201456
CREATED:20240702T210846Z
LAST-MODIFIED:20240702T210846Z
UID:3329-1742774400-1743206399@elementary.sd42.ca
SUMMARY:School not in session
DESCRIPTION:School not in session.
URL:https://elementary.sd42.ca/cusqunela/event/school-not-in-session-8/
CATEGORIES:district calendar
END:VEVENT
BEGIN:VEVENT
DTSTART;VALUE=DATE:20250317
DTEND;VALUE=DATE:20250322
DTSTAMP:20260420T201456
CREATED:20240702T210831Z
LAST-MODIFIED:20240702T210831Z
UID:3328-1742169600-1742601599@elementary.sd42.ca
SUMMARY:Spring break
DESCRIPTION:School closed for spring break
URL:https://elementary.sd42.ca/cusqunela/event/spring-break-7/
CATEGORIES:district calendar
END:VEVENT
BEGIN:VEVENT
DTSTART;VALUE=DATE:20250314
DTEND;VALUE=DATE:20250315
DTSTAMP:20260420T201456
CREATED:20240702T210830Z
LAST-MODIFIED:20240702T210830Z
UID:3327-1741910400-1741996799@elementary.sd42.ca
SUMMARY:Last day of school before break
DESCRIPTION:Last day of school before break.
URL:https://elementary.sd42.ca/cusqunela/event/last-day-of-school-before-break-4/
CATEGORIES:district calendar
END:VEVENT
END:VCALENDAR